BEGIN:VCALENDAR
VERSION:2.0
PRODID:-//WRJSL - ECPv6.15.20//NONSGML v1.0//EN
CALSCALE:GREGORIAN
METHOD:PUBLISH
X-WR-CALNAME:WRJSL
X-ORIGINAL-URL:https://wrjsl.org
X-WR-CALDESC:Events for WRJSL
REFRESH-INTERVAL;VALUE=DURATION:PT1H
X-Robots-Tag:noindex
X-PUBLISHED-TTL:PT1H
BEGIN:VTIMEZONE
TZID:America/New_York
BEGIN:DAYLIGHT
TZOFFSETFROM:-0500
TZOFFSETTO:-0400
TZNAME:EDT
DTSTART:20250309T070000
END:DAYLIGHT
BEGIN:STANDARD
TZOFFSETFROM:-0400
TZOFFSETTO:-0500
TZNAME:EST
DTSTART:20251102T060000
END:STANDARD
BEGIN:DAYLIGHT
TZOFFSETFROM:-0500
TZOFFSETTO:-0400
TZNAME:EDT
DTSTART:20260308T070000
END:DAYLIGHT
BEGIN:STANDARD
TZOFFSETFROM:-0400
TZOFFSETTO:-0500
TZNAME:EST
DTSTART:20261101T060000
END:STANDARD
BEGIN:DAYLIGHT
TZOFFSETFROM:-0500
TZOFFSETTO:-0400
TZNAME:EDT
DTSTART:20270314T070000
END:DAYLIGHT
BEGIN:STANDARD
TZOFFSETFROM:-0400
TZOFFSETTO:-0500
TZNAME:EST
DTSTART:20271107T060000
END:STANDARD
END:VTIMEZONE
BEGIN:VEVENT
DTSTART;TZID=America/New_York:20260205T183000
DTEND;TZID=America/New_York:20260205T183000
DTSTAMP:20260419T082558
CREATED:20250711T200233Z
LAST-MODIFIED:20250711T202134Z
UID:2453-1770316200-1770316200@wrjsl.org
SUMMARY:Board Meeting
DESCRIPTION:Hostesses:  Pam Morse\, Karrie Shannon\, Cheryl Kuonen
URL:https://wrjsl.org/event/board-meeting-12/
LOCATION:Home of Pam Morse\, 1239 High Street\, Fairport Harbor\, OH\, 44077\, United States
END:VEVENT
BEGIN:VEVENT
DTSTART;TZID=America/New_York:20260219T183000
DTEND;TZID=America/New_York:20260219T203000
DTSTAMP:20260419T082558
CREATED:20250914T213205Z
LAST-MODIFIED:20250914T213317Z
UID:2543-1771525800-1771533000@wrjsl.org
SUMMARY:General Meeting - February 2026
DESCRIPTION:Presentation: Go with the “Flow”\nSpeaker: Ashley Best\nHostesses: Jennie Best\, Sue Fatica\nSustainer Greeters: Judy Armington\, Donna Skufca\nHelpers: Cara Mia Duncan\, Heidi Landgraf\, Rebecca Schenk\, Karrie Shannon
URL:https://wrjsl.org/event/general-meeting-february-2026/
LOCATION:Perry Public Library\, 3753 Main St\, Perry\, Ohio
END:VEVENT
END:VCALENDAR